BEGIN:VCALENDAR
VERSION:2.0
PRODID:-//MedCz - ECPv6.15.20//NONSGML v1.0//EN
CALSCALE:GREGORIAN
METHOD:PUBLISH
X-WR-CALNAME:MedCz
X-ORIGINAL-URL:https://medcz.net
X-WR-CALDESC:Events for MedCz
REFRESH-INTERVAL;VALUE=DURATION:PT1H
X-Robots-Tag:noindex
X-PUBLISHED-TTL:PT1H
BEGIN:VTIMEZONE
TZID:UTC
BEGIN:STANDARD
TZOFFSETFROM:+0000
TZOFFSETTO:+0000
TZNAME:UTC
DTSTART:20230101T000000
END:STANDARD
END:VTIMEZONE
BEGIN:VEVENT
DTSTART;VALUE=DATE:20240701
DTEND;VALUE=DATE:20240702
DTSTAMP:20260422T221618
CREATED:20240909T101342Z
LAST-MODIFIED:20241030T190855Z
UID:499-1719792000-1719878399@medcz.net
SUMMARY:Dentistry Between Management And Treatment
DESCRIPTION:  \nProviding an insight for doctors who are considering opening a business in the current market with all its challenges in our local region. Strategies for success in the ever-evolving healthcare industry\, key topics such as market analysis\, effective branding\, leveraging technology\, and cultivating strategic partnerships. By emphasizing innovation\, patient-centric approaches\, and adaptability to regulatory changes\, participants can gain insights to navigate challenges and seize opportunities in this dynamic field. \nWatch Here: \n\nhttps://medcz.net/wp-content/uploads/2024/09/video1434921087.mp4
URL:https://medcz.net/event/dentistry-between-management-and-treatment/
ATTACH;FMTTYPE=image/jpeg:https://medcz.net/wp-content/uploads/2024/09/website-banner2Artboard-1-copy.jpg
END:VEVENT
BEGIN:VEVENT
DTSTART;VALUE=DATE:20240706
DTEND;VALUE=DATE:20240707
DTSTAMP:20260422T221618
CREATED:20240909T093813Z
LAST-MODIFIED:20241031T031606Z
UID:486-1720224000-1720310399@medcz.net
SUMMARY:Recap of static & dynamic occlusion with benefits and indications using OccluSense
DESCRIPTION:Occlusal adjustments are an integral part of clinical dentistry. Any occlusal discrepancy will affect the masticatory system in general \, specific area being teeth & muscles. \nComputerized digital occlusion analysis with OccluSense gives us precise & accurate occlusal diagnosis. We can check & measure the relative occlusal forces in static and dynamic mandibular positions\, & generate both 2D & 3D graphics that identify the areas of greater or less pressure. Data is visible onscreen\, taking the accuracy level of balancing occlusion & treatment planning on a higher notch for us dentists. \nWatch Here: \nhttps://medcz.net/wp-content/uploads/2024/09/Rumpa.mp4\n 
URL:https://medcz.net/event/recap-of-static-dynamic-occlusion-with-benefits-and-indications-using-occlusense/
ATTACH;FMTTYPE=image/jpeg:https://medcz.net/wp-content/uploads/2024/09/website-banner2Artboard-1-copy-5.jpg
END:VEVENT
BEGIN:VEVENT
DTSTART;VALUE=DATE:20240727
DTEND;VALUE=DATE:20240728
DTSTAMP:20260422T221618
CREATED:20240909T103547Z
LAST-MODIFIED:20241029T195633Z
UID:517-1722038400-1722124799@medcz.net
SUMMARY:What do you need to get started and how to use OccluSense data on clinical cases.
DESCRIPTION:In this second webinar of the OccluSense series by Bausch\, we will be looking at what you need to get started and how to use OccluSense data on clinical cases. The main objectives will focus on the Basic use of OccluSense\, understanding OccluSense readings and some basics on the clinical use of OccluSense. We will also be looking at real clinical cases in order to directly transfer the theory of digital occlusion\, into practical examples. Various indications will be discussed and an ideal algorithm for Occlusion control in the dental practice recommended. \nWatch Here: \nhttps://medcz.net/wp-content/uploads/2024/09/video1383242209.mp4
URL:https://medcz.net/event/what-do-you-need-to-get-started-and-how-to-use-occlusense-data-on-clinical-cases/
ATTACH;FMTTYPE=image/jpeg:https://medcz.net/wp-content/uploads/2024/09/WhatsApp-Image-2024-10-05-at-2.31.51-PM.jpeg
END:VEVENT
END:VCALENDAR