BEGIN:VCALENDAR
VERSION:2.0
PRODID:-//MedCz - ECPv6.15.20//NONSGML v1.0//EN
CALSCALE:GREGORIAN
METHOD:PUBLISH
X-ORIGINAL-URL:https://medcz.net
X-WR-CALDESC:Events for MedCz
REFRESH-INTERVAL;VALUE=DURATION:PT1H
X-Robots-Tag:noindex
X-PUBLISHED-TTL:PT1H
BEGIN:VTIMEZONE
TZID:Asia/Dubai
BEGIN:STANDARD
TZOFFSETFROM:+0400
TZOFFSETTO:+0400
TZNAME:+04
DTSTART:20250101T000000
END:STANDARD
END:VTIMEZONE
BEGIN:VEVENT
DTSTART;VALUE=DATE:20260111
DTEND;VALUE=DATE:20260112
DTSTAMP:20260423T094602
CREATED:20251216T175759Z
LAST-MODIFIED:20260112T130103Z
UID:1401-1768089600-1768175999@medcz.net
SUMMARY:Write & Publish with Confidence
DESCRIPTION:Key Abstract: \nJoin us for a focused\, skills‑based webinar designed to help researchers produce clear\, compelling\, and publication‑ready manuscripts. This session will teach you how to craft impactful abstracts\, structure your papers for maximum clarity\, and avoid the common pitfalls that often lead to desk rejections. Guided by certified medical writers\, you’ll gain practical\, immediately applicable strategies to strengthen your scientific communication\, streamline the submission process\, and improve your chances of acceptance in high‑impact journals.\n \nWatch Here: \n\nhttps://medcz.net/wp-content/uploads/2025/12/video1468820003.mp4\n 
URL:https://medcz.net/event/write-publish-with-confidence/
ATTACH;FMTTYPE=image/png:https://medcz.net/wp-content/uploads/2025/12/dr.shaimaa.png
END:VEVENT
END:VCALENDAR