BEGIN:VCALENDAR
VERSION:2.0
PRODID:-//MedCz - ECPv6.15.20//NONSGML v1.0//EN
CALSCALE:GREGORIAN
METHOD:PUBLISH
X-WR-CALNAME:MedCz
X-ORIGINAL-URL:https://medcz.net
X-WR-CALDESC:Events for MedCz
REFRESH-INTERVAL;VALUE=DURATION:PT1H
X-Robots-Tag:noindex
X-PUBLISHED-TTL:PT1H
BEGIN:VTIMEZONE
TZID:UTC
BEGIN:STANDARD
TZOFFSETFROM:+0000
TZOFFSETTO:+0000
TZNAME:UTC
DTSTART:20220101T000000
END:STANDARD
END:VTIMEZONE
BEGIN:VEVENT
DTSTART;VALUE=DATE:20231215
DTEND;VALUE=DATE:20231216
DTSTAMP:20260423T024649
CREATED:20240909T160524Z
LAST-MODIFIED:20241030T164822Z
UID:584-1702598400-1702684799@medcz.net
SUMMARY:Success Stories Of Oral Health Programs In The Community
DESCRIPTION:This seminar offers a thorough exploration of ceramic implants\, targeting dental professionals and enthusiasts of advanced dental technology. It aims to impart a solid understanding of their scientific basis\, benefits\, and drawbacks\, build confidence in clinical evaluations\, and provide updates on the latest research and trends. \nWatch Here: \n\nhttps://medcz.net/wp-content/uploads/2024/09/video1815323164.mp4
URL:https://medcz.net/event/success-stories-of-oral-health-programs-in-the-community/
ATTACH;FMTTYPE=image/jpeg:https://medcz.net/wp-content/uploads/2024/09/WhatsApp-Image-2024-09-08-at-6.53.26-PM.jpeg
END:VEVENT
END:VCALENDAR