BEGIN:VCALENDAR
VERSION:2.0
PRODID:-//MedCz - ECPv6.15.20//NONSGML v1.0//EN
CALSCALE:GREGORIAN
METHOD:PUBLISH
X-WR-CALNAME:MedCz
X-ORIGINAL-URL:https://medcz.net
X-WR-CALDESC:Events for MedCz
REFRESH-INTERVAL;VALUE=DURATION:PT1H
X-Robots-Tag:noindex
X-PUBLISHED-TTL:PT1H
BEGIN:VTIMEZONE
TZID:Europe/Moscow
BEGIN:STANDARD
TZOFFSETFROM:+0300
TZOFFSETTO:+0300
TZNAME:MSK
DTSTART:20240101T000000
END:STANDARD
END:VTIMEZONE
BEGIN:VEVENT
DTSTART;VALUE=DATE:20250125
DTEND;VALUE=DATE:20250126
DTSTAMP:20260423T052712
CREATED:20250107T102032Z
LAST-MODIFIED:20250210T123120Z
UID:1013-1737763200-1737849599@medcz.net
SUMMARY:Complications and their Management in Implant Dentistry
DESCRIPTION:Join us on January 25th\, 2025 – Pay Now to Reserve Your Spot! \nPayment Link: https://buy.stripe.com/3cs9D35aV2FUbEQ5kr \nAvail the Special Offer: https://buy.stripe.com/bIYg1reLv2FU10cbIV \nParticipants will: \n\nIdentify common complications associated with implant dentistry.\nRecognize risk factors that increase the likelihood of complications.\nDescribe treatment options for managing various implant complications.\nUnderstand preventive measures to minimize the risk of complications.\n\nWe have limited slots remaining!\n“The best outcomes in implant dentistry come from meticulous planning and effective risk management.”
URL:https://medcz.net/event/risk-management-in-implant-dentistry/
ATTACH;FMTTYPE=image/jpeg:https://medcz.net/wp-content/uploads/2025/01/WhatsApp-Image-2025-02-06-at-2.09.36-PM.jpeg
END:VEVENT
END:VCALENDAR