BEGIN:VCALENDAR
VERSION:2.0
PRODID:-//MedCz - ECPv6.15.20//NONSGML v1.0//EN
CALSCALE:GREGORIAN
METHOD:PUBLISH
X-ORIGINAL-URL:https://medcz.net
X-WR-CALDESC:Events for MedCz
REFRESH-INTERVAL;VALUE=DURATION:PT1H
X-Robots-Tag:noindex
X-PUBLISHED-TTL:PT1H
BEGIN:VTIMEZONE
TZID:Asia/Dubai
BEGIN:STANDARD
TZOFFSETFROM:+0400
TZOFFSETTO:+0400
TZNAME:+04
DTSTART:20240101T000000
END:STANDARD
END:VTIMEZONE
BEGIN:VEVENT
DTSTART;TZID=Asia/Dubai:20250104T150000
DTEND;TZID=Asia/Dubai:20250104T200000
DTSTAMP:20260423T033947
CREATED:20241218T114728Z
LAST-MODIFIED:20250205T101320Z
UID:978-1736002800-1736020800@medcz.net
SUMMARY:Fundamentals of Oral Implantology
DESCRIPTION:Join us in the “Fundamentals of Oral Implantology” course\, you will learn how to assess and plan for successful implant procedures. You will master essential surgical skills required for implant placement and understand the principles of osseointegration and bone healing. The course will also cover various prosthetic solutions and their applications\, as well as strategies for effective patient communication and care. Additionally\, you will learn to identify and manage potential complications in implantology. \nFull Bundle Payment Link:  \nhttps://buy.stripe.com/aEU2aBbzj6Wa9wI9AFhttps://docs.google.com/forms/d/e/1FAIpQLSf5wbTz496XZtpcl4e1WZ_GC7Uz09aqjzOTYxVOyPoXTVHflw/viewform?usp=sf_link \nKey Benefits of Our Course: \n* Learn from international speakers\n* Gain international recognition\n* Earn certification of CMEs\n* Receive one-to-one supervision in all phases\n* Enjoy great value for money\n* Engage with the latest technical information \nWhy Choose This Course? \nEarn More: Implants boost your revenue.\nPatient Satisfaction: Provide lasting smiles.\nBuild Confidence: Tackle challenging cases. \nWatch here the course introduction of this event: \nhttps://medcz.net/event/all-you-need-to-know-about-fundamentals-of-oral-implantology-course/
URL:https://medcz.net/event/fundamentals-of-oral-implantology-2/
ATTACH;FMTTYPE=image/jpeg:https://medcz.net/wp-content/uploads/2024/12/WhatsApp-Image-2025-02-05-at-11.22.44-AM.jpeg
END:VEVENT
END:VCALENDAR