BEGIN:VCALENDAR
VERSION:2.0
PRODID:-//MedCz - ECPv6.15.13.1//NONSGML v1.0//EN
CALSCALE:GREGORIAN
METHOD:PUBLISH
X-ORIGINAL-URL:https://medcz.net
X-WR-CALDESC:Events for MedCz
REFRESH-INTERVAL;VALUE=DURATION:PT1H
X-Robots-Tag:noindex
X-PUBLISHED-TTL:PT1H
BEGIN:VTIMEZONE
TZID:Asia/Dubai
BEGIN:STANDARD
TZOFFSETFROM:+0400
TZOFFSETTO:+0400
TZNAME:+04
DTSTART:20230101T000000
END:STANDARD
END:VTIMEZONE
BEGIN:VEVENT
DTSTART;VALUE=DATE:20241107
DTEND;VALUE=DATE:20241108
DTSTAMP:20260422T155257
CREATED:20241026T152746Z
LAST-MODIFIED:20241129T111241Z
UID:705-1730937600-1731023999@medcz.net
SUMMARY:Master Your Skills in Digital Dentistry
DESCRIPTION:In an era of rapid technological advancements\, dentistry is at the forefront of this transformation. This educational series explores digital dentistry\, implant planning\, and AI applications in dental practice. Aimed at professionals seeking to stay ahead\, it covers digital workflows\, implant precision\, and the role of AI in diagnostics and treatment planning. Through expert insights\, hands-on demos\, and case studies\, participants will gain the skills needed to implement these cutting-edge technologies in their practices\, enhancing efficiency and patient outcomes. \nWatch Here: \n\nhttps://medcz.net/wp-content/uploads/2024/10/video1345975282.mp4\n  \n  \n  \n 
URL:https://medcz.net/event/master-your-skills-in-digital-dentistry/
ATTACH;FMTTYPE=image/jpeg:https://medcz.net/wp-content/uploads/2024/10/November-7-2024-@-5PM.jpeg
END:VEVENT
END:VCALENDAR