BEGIN:VCALENDAR
VERSION:2.0
PRODID:-//MedCz - ECPv6.15.13.1//NONSGML v1.0//EN
CALSCALE:GREGORIAN
METHOD:PUBLISH
X-WR-CALNAME:MedCz
X-ORIGINAL-URL:https://medcz.net
X-WR-CALDESC:Events for MedCz
REFRESH-INTERVAL;VALUE=DURATION:PT1H
X-Robots-Tag:noindex
X-PUBLISHED-TTL:PT1H
BEGIN:VTIMEZONE
TZID:Europe/Moscow
BEGIN:STANDARD
TZOFFSETFROM:+0300
TZOFFSETTO:+0300
TZNAME:MSK
DTSTART:20230101T000000
END:STANDARD
END:VTIMEZONE
BEGIN:VEVENT
DTSTART;TZID=Europe/Moscow:20241101T180000
DTEND;TZID=Europe/Moscow:20241101T203000
DTSTAMP:20260422T115357
CREATED:20241029T124910Z
LAST-MODIFIED:20241107T131518Z
UID:755-1730484000-1730493000@medcz.net
SUMMARY:Special Care Dentistry Supercharged: Building Resilience & Effective Communication
DESCRIPTION:  \nThis event will highlight the emotional and clinical challenges of treating special needs patients. It covers emotional intelligence in patient care\, burnout prevention\, managing head & neck cancer patients\, and safe practices for treating patients on blood thinners. \nWatch Here: \n\nhttps://medcz.net/wp-content/uploads/2024/10/video1157729162.mp4
URL:https://medcz.net/event/special-care-dentistry-supercharged-building-resilience-effective-communication/
ATTACH;FMTTYPE=image/jpeg:https://medcz.net/wp-content/uploads/2024/10/November-1-2024-@-6PM.jpeg
END:VEVENT
END:VCALENDAR