BEGIN:VCALENDAR
VERSION:2.0
PRODID:-//MedCz - ECPv6.15.20//NONSGML v1.0//EN
CALSCALE:GREGORIAN
METHOD:PUBLISH
X-ORIGINAL-URL:https://medcz.net
X-WR-CALDESC:Events for MedCz
REFRESH-INTERVAL;VALUE=DURATION:PT1H
X-Robots-Tag:noindex
X-PUBLISHED-TTL:PT1H
BEGIN:VTIMEZONE
TZID:Europe/Moscow
BEGIN:STANDARD
TZOFFSETFROM:+0300
TZOFFSETTO:+0300
TZNAME:MSK
DTSTART:20230101T000000
END:STANDARD
END:VTIMEZONE
BEGIN:VEVENT
DTSTART;TZID=Europe/Moscow:20241026T180000
DTEND;TZID=Europe/Moscow:20241026T203000
DTSTAMP:20260422T183902
CREATED:20241029T143931Z
LAST-MODIFIED:20241029T144836Z
UID:773-1729965600-1729974600@medcz.net
SUMMARY:Manage "Special Care Dentistry: Meeting the Needs of Diverse Populations"
DESCRIPTION:This event will explore key aspects of special care dentistry\, including governance\, tailored care for adults with learning disabilities\, sensory-adjusted dental environments\, and specialized treatment for paediatric patients. Watch us! to learn essentials strategies for delivering high-quality care to diverse patient populations. \n  \nWatch Here: \n\nhttps://medcz.net/wp-content/uploads/2024/10/video1679897973.mp4\n 
URL:https://medcz.net/event/manage-special-care-dentistry-meeting-the-needs-of-diverse-populations/
ATTACH;FMTTYPE=image/jpeg:https://medcz.net/wp-content/uploads/2024/10/October-26-2024-@-6PM.jpeg
END:VEVENT
END:VCALENDAR