BEGIN:VCALENDAR
VERSION:2.0
PRODID:-//MedCz - ECPv6.15.20//NONSGML v1.0//EN
CALSCALE:GREGORIAN
METHOD:PUBLISH
X-ORIGINAL-URL:https://medcz.net
X-WR-CALDESC:Events for MedCz
REFRESH-INTERVAL;VALUE=DURATION:PT1H
X-Robots-Tag:noindex
X-PUBLISHED-TTL:PT1H
BEGIN:VTIMEZONE
TZID:UTC
BEGIN:STANDARD
TZOFFSETFROM:+0000
TZOFFSETTO:+0000
TZNAME:UTC
DTSTART:20230101T000000
END:STANDARD
END:VTIMEZONE
BEGIN:VEVENT
DTSTART;VALUE=DATE:20240831
DTEND;VALUE=DATE:20240901
DTSTAMP:20260422T201350
CREATED:20240909T093438Z
LAST-MODIFIED:20250521T192448Z
UID:481-1725062400-1725148799@medcz.net
SUMMARY:Bio-Logical Implantology
DESCRIPTION:  \nThe Bio-Logically approached osseointegration occurs mainly on two sides: the implant side and the host side. This presentation addresses osseous tissue characteristics and the role of Bio-Logical osteotomy preparations that allow the collection of autogenous bone with controlled slow drilling from 50-100rpm without saline irrigation. \nBio-Logically approached implantology is a distinct dental implant experience. It is a Golden Era that regards human cells’ biology by incorporating growth factors and platelet concentrates. Understanding the biological perspective allows us to replace conventional methods with more innovative solutions to achieve successful dynamic osseointegration.  \nbuy the event recording from here 
URL:https://medcz.net/event/bio-logical-implantology/
ATTACH;FMTTYPE=image/jpeg:https://medcz.net/wp-content/uploads/2024/09/website-banner2Artboard-1.jpg
END:VEVENT
END:VCALENDAR