BEGIN:VCALENDAR
VERSION:2.0
PRODID:-//MedCz - ECPv6.15.20//NONSGML v1.0//EN
CALSCALE:GREGORIAN
METHOD:PUBLISH
X-ORIGINAL-URL:https://medcz.net
X-WR-CALDESC:Events for MedCz
REFRESH-INTERVAL;VALUE=DURATION:PT1H
X-Robots-Tag:noindex
X-PUBLISHED-TTL:PT1H
BEGIN:VTIMEZONE
TZID:UTC
BEGIN:STANDARD
TZOFFSETFROM:+0000
TZOFFSETTO:+0000
TZNAME:UTC
DTSTART:20230101T000000
END:STANDARD
END:VTIMEZONE
BEGIN:VEVENT
DTSTART;VALUE=DATE:20240706
DTEND;VALUE=DATE:20240707
DTSTAMP:20260423T000107
CREATED:20240909T093813Z
LAST-MODIFIED:20241031T031606Z
UID:486-1720224000-1720310399@medcz.net
SUMMARY:Recap of static & dynamic occlusion with benefits and indications using OccluSense
DESCRIPTION:Occlusal adjustments are an integral part of clinical dentistry. Any occlusal discrepancy will affect the masticatory system in general \, specific area being teeth & muscles. \nComputerized digital occlusion analysis with OccluSense gives us precise & accurate occlusal diagnosis. We can check & measure the relative occlusal forces in static and dynamic mandibular positions\, & generate both 2D & 3D graphics that identify the areas of greater or less pressure. Data is visible onscreen\, taking the accuracy level of balancing occlusion & treatment planning on a higher notch for us dentists. \nWatch Here: \n\nhttps://medcz.net/wp-content/uploads/2024/09/Rumpa.mp4\n 
URL:https://medcz.net/event/recap-of-static-dynamic-occlusion-with-benefits-and-indications-using-occlusense/
ATTACH;FMTTYPE=image/jpeg:https://medcz.net/wp-content/uploads/2024/09/website-banner2Artboard-1-copy-5.jpg
END:VEVENT
END:VCALENDAR