BEGIN:VCALENDAR
VERSION:2.0
PRODID:-//MedCz - ECPv6.15.20//NONSGML v1.0//EN
CALSCALE:GREGORIAN
METHOD:PUBLISH
X-ORIGINAL-URL:https://medcz.net
X-WR-CALDESC:Events for MedCz
REFRESH-INTERVAL;VALUE=DURATION:PT1H
X-Robots-Tag:noindex
X-PUBLISHED-TTL:PT1H
BEGIN:VTIMEZONE
TZID:UTC
BEGIN:STANDARD
TZOFFSETFROM:+0000
TZOFFSETTO:+0000
TZNAME:UTC
DTSTART:20230101T000000
END:STANDARD
END:VTIMEZONE
BEGIN:VEVENT
DTSTART;VALUE=DATE:20240629
DTEND;VALUE=DATE:20240630
DTSTAMP:20260423T014800
CREATED:20240909T101608Z
LAST-MODIFIED:20241030T191011Z
UID:507-1719619200-1719705599@medcz.net
SUMMARY:Introduction To Medical Parasitology
DESCRIPTION:This course aims to know and understand the types of parasites and hosts\, the different forms of host-parasite relationships\, the various sources of parasitic infections or infestations\, the types of parasite life cycles\, and the pathogenesis of parasitic infections affecting the human body. \nWatch Here: \n\nhttps://medcz.net/wp-content/uploads/2024/09/5video.mp4\n 
URL:https://medcz.net/event/introduction-to-medical-parasitology/
ATTACH;FMTTYPE=image/jpeg:https://medcz.net/wp-content/uploads/2024/09/website-banner2Artboard-1-copy-4.jpg
END:VEVENT
BEGIN:VEVENT
DTSTART;VALUE=DATE:20240629
DTEND;VALUE=DATE:20240630
DTSTAMP:20260423T014800
CREATED:20240909T121745Z
LAST-MODIFIED:20241110T195853Z
UID:529-1719619200-1719705599@medcz.net
SUMMARY:All-Ceramic Restorations From Preparation To Cementation
DESCRIPTION:All-ceramic restorations are favoured in modern dentistry for their aesthetics and biocompatibility. Types include porcelain\, lithium disilicate\, and zirconia\, each with unique strengths. Tooth preparation ensures structural integrity and aesthetics\, while digital scanning enhances accuracy. Resin-based cements provide strong adhesion\, crucial for durability. Advances in technology continue to improve these reliable and aesthetically pleasing restorations. \nbuy the event recording from here 
URL:https://medcz.net/event/all-ceramic-restorations-from-preparation-to-cementation/
ATTACH;FMTTYPE=image/jpeg:https://medcz.net/wp-content/uploads/2024/09/website-bannerArtboard-1-copy-4.jpg
END:VEVENT
END:VCALENDAR