BEGIN:VCALENDAR
VERSION:2.0
PRODID:-//MedCz - ECPv6.15.20//NONSGML v1.0//EN
CALSCALE:GREGORIAN
METHOD:PUBLISH
X-ORIGINAL-URL:https://medcz.net
X-WR-CALDESC:Events for MedCz
REFRESH-INTERVAL;VALUE=DURATION:PT1H
X-Robots-Tag:noindex
X-PUBLISHED-TTL:PT1H
BEGIN:VTIMEZONE
TZID:Europe/Moscow
BEGIN:STANDARD
TZOFFSETFROM:+0300
TZOFFSETTO:+0300
TZNAME:MSK
DTSTART:20230101T000000
END:STANDARD
END:VTIMEZONE
BEGIN:VEVENT
DTSTART;VALUE=DATE:20240120
DTEND;VALUE=DATE:20240121
DTSTAMP:20260423T112039
CREATED:20241030T160958Z
LAST-MODIFIED:20241031T023226Z
UID:816-1705708800-1705795199@medcz.net
SUMMARY:Step Into The World of Clinical Nutrition & TPN
DESCRIPTION:This course offers a thorough understanding of Total Parenteral Nutrition (TPN) and its application across various clinical settings. Participants will learn to identify when TPN is necessary\, calculate appropriate formulations\, and administer TPN safely. Additionally\, the course covers the potential complications of TPN and provides strategies for their prevention and management. By the end\, participants will be well-prepared to improve patient care using TPN. \n 
URL:https://medcz.net/event/step-into-the-world-of-clinical-nutrition-tpn/
ATTACH;FMTTYPE=image/jpeg:https://medcz.net/wp-content/uploads/2024/10/AD333.jpg
END:VEVENT
END:VCALENDAR